BEGIN:VCALENDAR
VERSION:2.0
CALSCALE:GREGORIAN
PRODID:adamgibbons/ics
METHOD:PUBLISH
X-PUBLISHED-TTL:PT1H
BEGIN:VEVENT
UID:21792@demo.gancio.org
SUMMARY:25 Aprile - Pigneto in Festa
DTSTAMP:20260421T205902Z
DTSTART:20260425T070000Z
DTEND:20260425T215500Z
URL:https://demo.gancio.org/event/25-aprile-pigneto-in-festa
LOCATION:Piazza Nuccitelli-Persiani - Piazza Nuccitelli\, 00176 Roma RM\, I
	talia
STATUS:CONFIRMED
CATEGORIES:25 aprile,Pranzo sociale,antifascismo,antimilitarismo,antisionis
	mo,cena sociale,concerti,laboratori creativi,sport popolare,territori
END:VEVENT
BEGIN:VEVENT
UID:21699@demo.gancio.org
SUMMARY:Fiore al Partigiano
DTSTAMP:20260421T205902Z
DTSTART:20260425T073000Z
URL:https://demo.gancio.org/event/fiore-al-partigiano
GEO:41.8761557;12.5645614
LOCATION:Piazza delle Camelie (Centocelle) - Piazza delle Camelie
STATUS:CONFIRMED
CATEGORIES:25 aprile,antifascismo,corteo
END:VEVENT
BEGIN:VEVENT
UID:21887@demo.gancio.org
SUMMARY:25 aprile @metro piramide
DTSTAMP:20260421T205902Z
DTSTART:20260425T083000Z
URL:https://demo.gancio.org/event/25-aprile-metro-piramide
LOCATION:metro piramide - metro piramide
STATUS:CONFIRMED
CATEGORIES:25 aprile
END:VEVENT
END:VCALENDAR
